BEGIN:VCALENDAR
VERSION:2.0
PRODID:-//Paroisses catholiques du Montargois - ECPv6.15.20//NONSGML v1.0//EN
CALSCALE:GREGORIAN
METHOD:PUBLISH
X-WR-CALNAME:Paroisses catholiques du Montargois
X-ORIGINAL-URL:https://eglise-montargis.fr
X-WR-CALDESC:Évènements pour Paroisses catholiques du Montargois
REFRESH-INTERVAL;VALUE=DURATION:PT1H
X-Robots-Tag:noindex
X-PUBLISHED-TTL:PT1H
BEGIN:VTIMEZONE
TZID:Europe/Paris
BEGIN:DAYLIGHT
TZOFFSETFROM:+0100
TZOFFSETTO:+0200
TZNAME:CEST
DTSTART:20240331T010000
END:DAYLIGHT
BEGIN:STANDARD
TZOFFSETFROM:+0200
TZOFFSETTO:+0100
TZNAME:CET
DTSTART:20241027T010000
END:STANDARD
BEGIN:DAYLIGHT
TZOFFSETFROM:+0100
TZOFFSETTO:+0200
TZNAME:CEST
DTSTART:20250330T010000
END:DAYLIGHT
BEGIN:STANDARD
TZOFFSETFROM:+0200
TZOFFSETTO:+0100
TZNAME:CET
DTSTART:20251026T010000
END:STANDARD
BEGIN:DAYLIGHT
TZOFFSETFROM:+0100
TZOFFSETTO:+0200
TZNAME:CEST
DTSTART:20260329T010000
END:DAYLIGHT
BEGIN:STANDARD
TZOFFSETFROM:+0200
TZOFFSETTO:+0100
TZNAME:CET
DTSTART:20261025T010000
END:STANDARD
END:VTIMEZONE
BEGIN:VEVENT
DTSTART;TZID=Europe/Paris:20250201T100000
DTEND;TZID=Europe/Paris:20250201T120000
DTSTAMP:20260421T235035
CREATED:20240904T115110Z
LAST-MODIFIED:20240904T120038Z
UID:17109-1738404000-1738411200@eglise-montargis.fr
SUMMARY:Éveil à la foi (3/7 ans)
DESCRIPTION:Attention même date pour l’agglo et le rural mais 2 endroits différents : Amilly ou Montargis pour l’agglo et Lombreuil pour le rural
URL:https://eglise-montargis.fr/evenement/eveil-a-la-foi-3-7-ans-5/
ATTACH;FMTTYPE=image/png:https://eglise-montargis.fr/wp-content/uploads/2024/09/Capture-décran-2024-09-04-à-09.55.24.png
END:VEVENT
BEGIN:VEVENT
DTSTART;TZID=Europe/Paris:20250202T150000
DTEND;TZID=Europe/Paris:20250202T170000
DTSTAMP:20260421T235035
CREATED:20250123T130621Z
LAST-MODIFIED:20250124T182854Z
UID:17446-1738508400-1738515600@eglise-montargis.fr
SUMMARY:conférence de l'ADIM
DESCRIPTION:l’ADIM Amitié Dialogue Inter-religieux du Montargois \, organise une conférence sur le thème  » les conceptions de la laïcité chez les chrétiens et les musulmans «  \nIntervenants : Julien Tellier et Tarik Abou Nour
URL:https://eglise-montargis.fr/evenement/conference-de-ladim-2/
LOCATION:Presbytère de Montargis\, 22 rue Triqueti\, Montargis\, 45200\, France
ATTACH;FMTTYPE=image/png:https://eglise-montargis.fr/wp-content/uploads/2025/01/conference-ADIM.png
END:VEVENT
BEGIN:VEVENT
DTSTART;TZID=Europe/Paris:20250208T183000
DTEND;TZID=Europe/Paris:20250208T193000
DTSTAMP:20260421T235035
CREATED:20250123T130815Z
LAST-MODIFIED:20250123T130815Z
UID:17448-1739039400-1739043000@eglise-montargis.fr
SUMMARY:Inauguration de l'orgue de St Firmin des Vignes
DESCRIPTION:Lors de la messe  \nIl n’y aura pas de messe à Amilly bourg ce samedi 
URL:https://eglise-montargis.fr/evenement/inauguration-de-lorgue-de-st-firmin-des-vignes/
END:VEVENT
BEGIN:VEVENT
DTSTART;TZID=Europe/Paris:20250209T000000
DTEND;TZID=Europe/Paris:20250209T000000
DTSTAMP:20260421T235035
CREATED:20250123T130248Z
LAST-MODIFIED:20250123T130248Z
UID:17443-1739059200-1739059200@eglise-montargis.fr
SUMMARY:sacrement de l'onction des malades
DESCRIPTION:Pendant la messe de 10h30 à Ladon  \nAprès la messe de 11h à Ste Madeleine  \n  \nSigne de la tendresse de Dieu pour la personne qui souffre  \nCe sacrement peut se recevoir si l’on ressent le besoin d’un soutien spirituel dans une période où la santé ( physique ou psychologique) est atteinte 
URL:https://eglise-montargis.fr/evenement/sacrement-de-lonction-des-malades/
LOCATION:Ladon et Ste Madeleine
END:VEVENT
BEGIN:VEVENT
DTSTART;TZID=Europe/Paris:20250223T150000
DTEND;TZID=Europe/Paris:20250223T170000
DTSTAMP:20260421T235035
CREATED:20250123T130920Z
LAST-MODIFIED:20250123T130920Z
UID:17450-1740322800-1740330000@eglise-montargis.fr
SUMMARY:Jeux de société
DESCRIPTION:Pour les 8 à 108 ans 
URL:https://eglise-montargis.fr/evenement/jeux-de-societe-5/
LOCATION:à l’aumonerie  \, presbytère de Montargis
END:VEVENT
END:VCALENDAR