BEGIN:VCALENDAR
VERSION:2.0
PRODID:-//Paroisses catholiques du Montargois - ECPv6.15.20//NONSGML v1.0//EN
CALSCALE:GREGORIAN
METHOD:PUBLISH
X-ORIGINAL-URL:https://eglise-montargis.fr
X-WR-CALDESC:Évènements pour Paroisses catholiques du Montargois
REFRESH-INTERVAL;VALUE=DURATION:PT1H
X-Robots-Tag:noindex
X-PUBLISHED-TTL:PT1H
BEGIN:VTIMEZONE
TZID:Europe/Paris
BEGIN:DAYLIGHT
TZOFFSETFROM:+0100
TZOFFSETTO:+0200
TZNAME:CEST
DTSTART:20240331T010000
END:DAYLIGHT
BEGIN:STANDARD
TZOFFSETFROM:+0200
TZOFFSETTO:+0100
TZNAME:CET
DTSTART:20241027T010000
END:STANDARD
BEGIN:DAYLIGHT
TZOFFSETFROM:+0100
TZOFFSETTO:+0200
TZNAME:CEST
DTSTART:20250330T010000
END:DAYLIGHT
BEGIN:STANDARD
TZOFFSETFROM:+0200
TZOFFSETTO:+0100
TZNAME:CET
DTSTART:20251026T010000
END:STANDARD
BEGIN:DAYLIGHT
TZOFFSETFROM:+0100
TZOFFSETTO:+0200
TZNAME:CEST
DTSTART:20260329T010000
END:DAYLIGHT
BEGIN:STANDARD
TZOFFSETFROM:+0200
TZOFFSETTO:+0100
TZNAME:CET
DTSTART:20261025T010000
END:STANDARD
END:VTIMEZONE
BEGIN:VEVENT
DTSTART;TZID=Europe/Paris:20250404T200000
DTEND;TZID=Europe/Paris:20250404T220000
DTSTAMP:20260421T205000
CREATED:20250307T190439Z
LAST-MODIFIED:20250307T190501Z
UID:17516-1743796800-1743804000@eglise-montargis.fr
SUMMARY:Temps de Carême fraternel
DESCRIPTION:
URL:https://eglise-montargis.fr/evenement/temps-de-careme-fraternel-2/
LOCATION:Lombreuil
ATTACH;FMTTYPE=image/png:https://eglise-montargis.fr/wp-content/uploads/2025/03/Capture-decran-2025-03-07-a-19.54.11.png
END:VEVENT
BEGIN:VEVENT
DTSTART;TZID=Europe/Paris:20250405T080000
DTEND;TZID=Europe/Paris:20250405T160000
DTSTAMP:20260421T205000
CREATED:20250307T190637Z
LAST-MODIFIED:20250307T190637Z
UID:17520-1743840000-1743868800@eglise-montargis.fr
SUMMARY:Brocante Secours Catholique
DESCRIPTION:
URL:https://eglise-montargis.fr/evenement/brocante-secours-catholique/
LOCATION:autour de l’église de Vésines
END:VEVENT
BEGIN:VEVENT
DTSTART;TZID=Europe/Paris:20250405T160000
DTEND;TZID=Europe/Paris:20250405T170000
DTSTAMP:20260421T205000
CREATED:20250330T171658Z
LAST-MODIFIED:20250330T171658Z
UID:17580-1743868800-1743872400@eglise-montargis.fr
SUMMARY:Jésus au coeur de nos vies : groupe de louanges
DESCRIPTION:
URL:https://eglise-montargis.fr/evenement/jesus-au-coeur-de-nos-vies-groupe-de-louanges/
LOCATION:Eglise Saint-Martin d’Amilly bourg\, Place de l'église\, Amilly\, 45200\, France
END:VEVENT
BEGIN:VEVENT
DTSTART;TZID=Europe/Paris:20250415T164000
DTEND;TZID=Europe/Paris:20250415T200000
DTSTAMP:20260421T205000
CREATED:20250330T170516Z
LAST-MODIFIED:20250330T170633Z
UID:17573-1744735200-1744747200@eglise-montargis.fr
SUMMARY:Messe Chrismale
DESCRIPTION:Un car est prévu pour se rendre à la messe chrismale à la cathédrale d’Orléans mardi 15 avril 2025 \n \nDépart place du Patis à 16h40 \, ou de Ladon école primaire à 16h50 \n \nMerci de vous inscrire au presbytère de Montargis rapidement ( 12 €) ( annulation du car si pas assez de participants) \n \nDurant cette messe \, l’évêque bénit les huiles saintes et consacre le St Chrême \n \nCette huile servira tout au long de l’année pour les sacrements du baptême et de la confirmation . \n \nEt les prêtres renouvellent leur promesse promesse sacerdotale
URL:https://eglise-montargis.fr/evenement/messe-chrismale-2/
LOCATION:cathédrale Ste Croix d’Orléans
END:VEVENT
BEGIN:VEVENT
DTSTART;TZID=Europe/Paris:20250426T160000
DTEND;TZID=Europe/Paris:20250426T170000
DTSTAMP:20260421T205000
CREATED:20250330T171730Z
LAST-MODIFIED:20250330T171730Z
UID:17583-1745683200-1745686800@eglise-montargis.fr
SUMMARY:Jésus au coeur de nos vies : groupe de louanges
DESCRIPTION:
URL:https://eglise-montargis.fr/evenement/jesus-au-coeur-de-nos-vies-groupe-de-louanges-2/
LOCATION:Eglise Sainte-Madeleine\, Rue Triqueti\, Montargis\, 45200\, France
END:VEVENT
END:VCALENDAR