BEGIN:VCALENDAR
VERSION:2.0
PRODID:-//Paroisses catholiques du Montargois - ECPv6.15.20//NONSGML v1.0//EN
CALSCALE:GREGORIAN
METHOD:PUBLISH
X-WR-CALNAME:Paroisses catholiques du Montargois
X-ORIGINAL-URL:https://eglise-montargis.fr
X-WR-CALDESC:Évènements pour Paroisses catholiques du Montargois
REFRESH-INTERVAL;VALUE=DURATION:PT1H
X-Robots-Tag:noindex
X-PUBLISHED-TTL:PT1H
BEGIN:VTIMEZONE
TZID:Europe/Paris
BEGIN:DAYLIGHT
TZOFFSETFROM:+0100
TZOFFSETTO:+0200
TZNAME:CEST
DTSTART:20240331T010000
END:DAYLIGHT
BEGIN:STANDARD
TZOFFSETFROM:+0200
TZOFFSETTO:+0100
TZNAME:CET
DTSTART:20241027T010000
END:STANDARD
BEGIN:DAYLIGHT
TZOFFSETFROM:+0100
TZOFFSETTO:+0200
TZNAME:CEST
DTSTART:20250330T010000
END:DAYLIGHT
BEGIN:STANDARD
TZOFFSETFROM:+0200
TZOFFSETTO:+0100
TZNAME:CET
DTSTART:20251026T010000
END:STANDARD
BEGIN:DAYLIGHT
TZOFFSETFROM:+0100
TZOFFSETTO:+0200
TZNAME:CEST
DTSTART:20260329T010000
END:DAYLIGHT
BEGIN:STANDARD
TZOFFSETFROM:+0200
TZOFFSETTO:+0100
TZNAME:CET
DTSTART:20261025T010000
END:STANDARD
END:VTIMEZONE
BEGIN:VEVENT
DTSTART;TZID=Europe/Paris:20250909T150000
DTEND;TZID=Europe/Paris:20250909T160000
DTSTAMP:20260421T133655
CREATED:20250908T154348Z
LAST-MODIFIED:20250908T154348Z
UID:18363-1757430000-1757433600@eglise-montargis.fr
SUMMARY:Prière du Rosaire
DESCRIPTION:
URL:https://eglise-montargis.fr/evenement/priere-du-rosaire-2/
LOCATION:oratoire villemandeur
CATEGORIES:agenda
END:VEVENT
BEGIN:VEVENT
DTSTART;TZID=Europe/Paris:20250912T183000
DTEND;TZID=Europe/Paris:20250912T193000
DTSTAMP:20260421T133655
CREATED:20250908T132551Z
LAST-MODIFIED:20250908T152644Z
UID:18156-1757701800-1757705400@eglise-montargis.fr
SUMMARY:Service Évangélique des Malades ( SEM)
DESCRIPTION:ouvert à tous ceux qui veulent vivre ce service 
URL:https://eglise-montargis.fr/evenement/service-evangelique-des-malades-sem/
LOCATION:Presbytère de Montargis\, 22 rue Triqueti\, Montargis\, 45200\, France
CATEGORIES:agenda
END:VEVENT
BEGIN:VEVENT
DTSTART;TZID=Europe/Paris:20250914T110000
DTEND;TZID=Europe/Paris:20250914T120000
DTSTAMP:20260421T133655
CREATED:20250908T132739Z
LAST-MODIFIED:20250908T152651Z
UID:18158-1757847600-1757851200@eglise-montargis.fr
SUMMARY:Messe de rentrée à Montargis (bénédiction des cartables et outils de travail)
DESCRIPTION:Avec bénédiction des outils de travail ( cartables\, ordinateurs…)
URL:https://eglise-montargis.fr/evenement/messe-de-rentree-a-montargis/
LOCATION:Eglise Sainte-Madeleine\, Rue Triqueti\, Montargis\, 45200\, France
CATEGORIES:agenda
END:VEVENT
BEGIN:VEVENT
DTSTART;TZID=Europe/Paris:20250916T200000
DTEND;TZID=Europe/Paris:20250916T213000
DTSTAMP:20260421T133655
CREATED:20250908T153439Z
LAST-MODIFIED:20250908T153439Z
UID:18357-1758052800-1758058200@eglise-montargis.fr
SUMMARY:Liturgie avec L'ACLAM
DESCRIPTION:Pour apprendre de nouveaux chants \nOuvert à tous
URL:https://eglise-montargis.fr/evenement/liturgie-avec-laclam/
LOCATION:Eglise Saint-Martin d’Amilly bourg\, Place de l'église\, Amilly\, 45200\, France
CATEGORIES:agenda
END:VEVENT
BEGIN:VEVENT
DTSTART;VALUE=DATE:20250920
DTEND;VALUE=DATE:20250921
DTSTAMP:20260421T133655
CREATED:20250908T132901Z
LAST-MODIFIED:20250908T152709Z
UID:18160-1758326400-1758412799@eglise-montargis.fr
SUMMARY:Brocante du secours Catholique
DESCRIPTION:à côté de l’église de Vésines
URL:https://eglise-montargis.fr/evenement/brocante-du-secours-catholique-11/
CATEGORIES:agenda
ATTACH;FMTTYPE=image/png:https://eglise-montargis.fr/wp-content/uploads/2018/09/secourscath-logo-fb.png
END:VEVENT
BEGIN:VEVENT
DTSTART;TZID=Europe/Paris:20250920T140000
DTEND;TZID=Europe/Paris:20250921T180000
DTSTAMP:20260421T133655
CREATED:20250915T084501Z
LAST-MODIFIED:20250915T090616Z
UID:18680-1758376800-1758477600@eglise-montargis.fr
SUMMARY:Visites guidées de l’église Sainte-Madeleine
DESCRIPTION:A l’occasion des Journées européennes du Patrimoine 2025\, l’Association des Amis de l’Eglise Sainte-Madeleine de Montargis vous propose des visites guidées de l’église Sainte Madeleine : \n\nle samedi 20 septembre de 14h à 18h\nle dimanche 21 septembre de 14h à 18h
URL:https://eglise-montargis.fr/evenement/visites-guidees-de-leglise-sainte-madeleine/
LOCATION:Eglise Sainte-Madeleine\, Rue Triqueti\, Montargis\, 45200\, France
CATEGORIES:agenda
END:VEVENT
BEGIN:VEVENT
DTSTART;TZID=Europe/Paris:20250920T160000
DTEND;TZID=Europe/Paris:20250920T180000
DTSTAMP:20260421T133655
CREATED:20250908T154156Z
LAST-MODIFIED:20250915T105457Z
UID:18361-1758384000-1758391200@eglise-montargis.fr
SUMMARY:Jésus au Cœur de nos Vies
DESCRIPTION:
URL:https://eglise-montargis.fr/evenement/jesus-au-coeur-de-nos-vies-23/
LOCATION:Eglise Sainte-Madeleine\, Rue Triqueti\, Montargis\, 45200\, France
CATEGORIES:agenda
ORGANIZER;CN="Jesus au Coeur de nos Vies":MAILTO:jesusaucoeurdenosvies@gmail.com
END:VEVENT
BEGIN:VEVENT
DTSTART;TZID=Europe/Paris:20250922T180000
DTEND;TZID=Europe/Paris:20250922T190000
DTSTAMP:20260421T133655
CREATED:20250908T153702Z
LAST-MODIFIED:20250908T153702Z
UID:18359-1758564000-1758567600@eglise-montargis.fr
SUMMARY:Lumière et Paix
DESCRIPTION:
URL:https://eglise-montargis.fr/evenement/lumiere-et-paix-2/
LOCATION:église de Villemandeur\, 45700
CATEGORIES:agenda
END:VEVENT
BEGIN:VEVENT
DTSTART;TZID=Europe/Paris:20250927T080000
DTEND;TZID=Europe/Paris:20250927T183000
DTSTAMP:20260421T133655
CREATED:20250911T110258Z
LAST-MODIFIED:20250911T110258Z
UID:18391-1758960000-1758997800@eglise-montargis.fr
SUMMARY:Pèlerinage de l'Espérance
DESCRIPTION:Les paroisses du Montargois et de Ferrières-en-Gâtinais vous proposent de vivre le pèlerinage de l’Espérance en allant ensemble à la Cathédrale d’Orléans le 27 septembre. \nEn savoir plus : Pèlerinage de l’Espérance 2025 – Paroisses catholiques du Montargois \n 
URL:https://eglise-montargis.fr/evenement/pelerinage-de-lesperance/
LOCATION:cathédrale Ste Croix d’Orléans
CATEGORIES:agenda
ATTACH;FMTTYPE=image/jpeg:https://eglise-montargis.fr/wp-content/uploads/2025/09/2025-pelerinage-cathedrale-visuel.jpg
ORGANIZER;CN="Paroisses du Montargois":MAILTO:paroisse.montargis@gmail.com
END:VEVENT
BEGIN:VEVENT
DTSTART;TZID=Europe/Paris:20250928T103000
DTEND;TZID=Europe/Paris:20250928T120000
DTSTAMP:20260421T133655
CREATED:20250919T134849Z
LAST-MODIFIED:20250919T141620Z
UID:18807-1759055400-1759060800@eglise-montargis.fr
SUMMARY:Messe de rentrée paroissiale du rural
DESCRIPTION:
URL:https://eglise-montargis.fr/evenement/messe-de-rentree-paroissiale-du-rural/
LOCATION:Église de Ladon
CATEGORIES:agenda
END:VEVENT
END:VCALENDAR