BEGIN:VCALENDAR
VERSION:2.0
PRODID:-//Paroisses catholiques du Montargois - ECPv6.15.20//NONSGML v1.0//EN
CALSCALE:GREGORIAN
METHOD:PUBLISH
X-WR-CALNAME:Paroisses catholiques du Montargois
X-ORIGINAL-URL:https://eglise-montargis.fr
X-WR-CALDESC:Évènements pour Paroisses catholiques du Montargois
REFRESH-INTERVAL;VALUE=DURATION:PT1H
X-Robots-Tag:noindex
X-PUBLISHED-TTL:PT1H
BEGIN:VTIMEZONE
TZID:Europe/Paris
BEGIN:DAYLIGHT
TZOFFSETFROM:+0100
TZOFFSETTO:+0200
TZNAME:CEST
DTSTART:20250330T010000
END:DAYLIGHT
BEGIN:STANDARD
TZOFFSETFROM:+0200
TZOFFSETTO:+0100
TZNAME:CET
DTSTART:20251026T010000
END:STANDARD
BEGIN:DAYLIGHT
TZOFFSETFROM:+0100
TZOFFSETTO:+0200
TZNAME:CEST
DTSTART:20260329T010000
END:DAYLIGHT
BEGIN:STANDARD
TZOFFSETFROM:+0200
TZOFFSETTO:+0100
TZNAME:CET
DTSTART:20261025T010000
END:STANDARD
BEGIN:DAYLIGHT
TZOFFSETFROM:+0100
TZOFFSETTO:+0200
TZNAME:CEST
DTSTART:20270328T010000
END:DAYLIGHT
BEGIN:STANDARD
TZOFFSETFROM:+0200
TZOFFSETTO:+0100
TZNAME:CET
DTSTART:20271031T010000
END:STANDARD
END:VTIMEZONE
BEGIN:VEVENT
DTSTART;TZID=Europe/Paris:20260306T180000
DTEND;TZID=Europe/Paris:20260306T180000
DTSTAMP:20260421T050049
CREATED:20260305T181354Z
LAST-MODIFIED:20260305T182131Z
UID:19194-1772820000-1772820000@eglise-montargis.fr
SUMMARY:Chemin de croix
DESCRIPTION:
URL:https://eglise-montargis.fr/evenement/chemin-de-croix-16/
LOCATION:église de chalette
END:VEVENT
BEGIN:VEVENT
DTSTART;TZID=Europe/Paris:20260313T090000
DTEND;TZID=Europe/Paris:20260313T090000
DTSTAMP:20260421T050049
CREATED:20260305T180322Z
LAST-MODIFIED:20260305T180924Z
UID:19190-1773392400-1773392400@eglise-montargis.fr
SUMMARY:messe en mémoire des victimes de l'église
DESCRIPTION:
URL:https://eglise-montargis.fr/evenement/messe-en-memoire-des-victimes-de-leglise/
LOCATION:Eglise Ste Madeleine\, 22 rue Triqueti\, Montargis\, 45200
END:VEVENT
BEGIN:VEVENT
DTSTART;TZID=Europe/Paris:20260313T180000
DTEND;TZID=Europe/Paris:20260313T180000
DTSTAMP:20260421T050049
CREATED:20260305T181713Z
LAST-MODIFIED:20260305T181723Z
UID:19196-1773424800-1773424800@eglise-montargis.fr
SUMMARY:Chemin de croix
DESCRIPTION:
URL:https://eglise-montargis.fr/evenement/chemin-de-croix-17/
LOCATION:Châlette
END:VEVENT
BEGIN:VEVENT
DTSTART;VALUE=DATE:20260314
DTEND;VALUE=DATE:20260316
DTSTAMP:20260421T050049
CREATED:20260202T202949Z
LAST-MODIFIED:20260202T202949Z
UID:19144-1773446400-1773619199@eglise-montargis.fr
SUMMARY:2è we de ressourcement spirituel de l'année
DESCRIPTION:4è dimanche de Carême  \n2 jours pour respirer Dieu \, se recentrer et repartir fortifiés ! Prières \, enseignements\, adoration\, confessions\, louange ….dans une atmosphère fraternelle avec des chrétiens d’ici et d’ailleurs  \nInscriptions au secrétariat paroissial de Montargis  \nViens comme tu es \, repars renouvelé !
URL:https://eglise-montargis.fr/evenement/2e-we-de-ressourcement-spirituel-de-lannee/
LOCATION:St Louis
END:VEVENT
BEGIN:VEVENT
DTSTART;TZID=Europe/Paris:20260314T203000
DTEND;TZID=Europe/Paris:20260314T203000
DTSTAMP:20260421T050049
CREATED:20260305T180510Z
LAST-MODIFIED:20260305T180826Z
UID:19192-1773520200-1773520200@eglise-montargis.fr
SUMMARY:concert louange avec SITIO
DESCRIPTION:
URL:https://eglise-montargis.fr/evenement/concert-louange-avec-sitio/
LOCATION:église sainte Madeleine
END:VEVENT
BEGIN:VEVENT
DTSTART;VALUE=DATE:20260315
DTEND;VALUE=DATE:20260316
DTSTAMP:20260421T050049
CREATED:20260202T203549Z
LAST-MODIFIED:20260202T203549Z
UID:19147-1773532800-1773619199@eglise-montargis.fr
SUMMARY:Colis Repas Surprise ( CRS)
DESCRIPTION:L’hospitalité diocésaine d’Orléans (HDO) organise comme tous les ans le colis repas surprise (CRS) afin de collecter des fonds au profit des personnes âgées\, malades ou handicapées qui souhaitent venir à Lourdes. En effet\, votre participation à cette action aidera au financement de leur prochain pèlerinage. Cette année\, le CRS aura lieu le dimanche 15 mars\, il y aura un point de distribution à MONTARGIS au presbytère. Le CRS contient un repas complet (apéritif\, entrée plat\, dessert\, pain) pour 27€/adulte ; 10€/enfant.Vous pourrez trouver des bulletins de participation à la sortie de l’église ou en scannant le QR code. Une délicieuse occasion de contribuer à la joie des plus fragiles !
URL:https://eglise-montargis.fr/evenement/colis-repas-surprise-crs/
END:VEVENT
BEGIN:VEVENT
DTSTART;TZID=Europe/Paris:20260320T180000
DTEND;TZID=Europe/Paris:20260320T180000
DTSTAMP:20260421T050049
CREATED:20260305T181806Z
LAST-MODIFIED:20260305T181814Z
UID:19198-1774029600-1774029600@eglise-montargis.fr
SUMMARY:Chemin de croix
DESCRIPTION:
URL:https://eglise-montargis.fr/evenement/chemin-de-croix-18/
LOCATION:Châlette
END:VEVENT
BEGIN:VEVENT
DTSTART;TZID=Europe/Paris:20260326T194500
DTEND;TZID=Europe/Paris:20260326T194500
DTSTAMP:20260421T050049
CREATED:20260305T182328Z
LAST-MODIFIED:20260305T182335Z
UID:19204-1774554300-1774554300@eglise-montargis.fr
SUMMARY:café biblique
DESCRIPTION:
URL:https://eglise-montargis.fr/evenement/cafe-biblique-5/
LOCATION:Châlette
END:VEVENT
BEGIN:VEVENT
DTSTART;TZID=Europe/Paris:20260327T180000
DTEND;TZID=Europe/Paris:20260327T180000
DTSTAMP:20260421T050049
CREATED:20260305T181849Z
LAST-MODIFIED:20260305T181855Z
UID:19200-1774634400-1774634400@eglise-montargis.fr
SUMMARY:Chemin de croix
DESCRIPTION:
URL:https://eglise-montargis.fr/evenement/chemin-de-croix-19/
LOCATION:Châlette
END:VEVENT
END:VCALENDAR